BEGIN:VCALENDAR
VERSION:2.0
CREATED:20260415T231730Z
PRODID:-//Lyft\, Inc./Equisolve Calendar v1.0//EN
METHOD:PUBLISH
BEGIN:VEVENT
UID:b3f58de3dc29ab3953aa3cb991c2f992
DTSTAMP:20260420T191224Z
DTSTART:20260507T210000Z
DTEND:20260507T214500Z
SUMMARY:Lyft First Quarter 2026 Earnings Call
DESCRIPTION:Lyft First Quarter 2026 Earnings Call\nDate: May 7\, 2026 5:00 pm EDT – 5:45 pm EDT\nWebcast: https://lyft-q1-2026-earnings-call.open-exchange.net/registration
END:VEVENT
END:VCALENDAR
